{"text_format":"3","workbook":"xlsx","n_sheets":2,"sheets":["unos","p"],"not_rendered":{"defined_names":2},"read":"whole","date_system":"1900"}

{"sheet":"unos","index":0,"n_rows":45,"n_cols":13,"rows_kept":45,"merged":[[0,1,0,2],[1,1,1,2],[5,3,5,4],[6,3,6,4],[7,3,7,4],[44,1,45,5]]}
[{"$nulls":6},"Образац МКО: ПМ  - Олакшице"]
[null,"/ назив МКО / ",null,null,"/ матични број /"]
[]
[]
[]
[null,null,"Лице одоговорно за податке"]
[null,null,"e-mail"]
[null,null,"Телефон"]
[]
[{"$nulls":3},"ПРЕГЛЕД ОЛАКШИЦА ФИЗИЧКИМ ЛИЦИМА ЗА ИЗМИРЕЊЕ КРЕДИТНИХ ОБАВЕЗА"]
[null,null,{"$f":"IF(F11<>\"\",\"у периоду од 01.01.\"& YEAR(F11) &\" до \" & TEXT(F11,\"dd.mm.yyyy\") & \". године\",\"у периоду од 01.01.\" & \" до извјештајног датума\")","v":"у периоду од 01.01. до извјештајног датума"},null,"са стањем на дан"]
[]
[{"$nulls":5},"(у 000 КМ)"]
[null,null,"ОПИС","Кредити физичким лицима *","Остали кредити**","Стамбени кредити",{"$nulls":4},{"$f":"IF(COUNTIF(L15:M42,\"<>TRUE\")=0,\"Валидацијска правила\",\"Провјерити валидацијска правила\")","v":"Валидацијска правила"}]
[{"$nulls":3},"010","020","030",{"$nulls":4},1,{"$f":"_xlfn.IFS(E16=0,E17=0,E16>0,E17>0)","v":true},{"$f":"_xlfn.IFS(F16=0,F17=0,F16>0,F17>0)","v":true}]
[null,"010","Број кредитних партија за које је поднесен захтјев",{"$f":"+E16+F16+G16","v":0},{"$nulls":6},2,{"$f":"_xlfn.IFS(E20=0,E21=0,E20>0,E21>0)","v":true},{"$f":"_xlfn.IFS(F20=0,F21=0,F20>0,F21>0)","v":true}]
[null,"011","од чега: број клијената који су поднијели захтјев",{"$f":"+E17+F17+G17","v":0},{"$nulls":6},3,{"$f":"_xlfn.IFS(E32=0,E33=0,E32>0,E33>0)","v":true},{"$f":"_xlfn.IFS(F32=0,F33=0,F32>0,F33>0)","v":true}]
[null,"020","Бруто износ кредита за које је поднесен захтјев ",0,{"$nulls":6},4,{"$f":"+E18>=E26+E34","v":true},{"$f":"+F18>=F26+F34","v":true}]
[null,"030","Одобрене активне мјере",{"$nulls":7},5,{"$f":"+E26=E22","v":true},{"$f":"+F26=F22","v":true}]
[null,"040","Број кредитних партија",{"$f":"+E20+F20+G20","v":0},{"$nulls":6},7,{"$f":"+E16>=E17","v":true},{"$f":"+F16>=F17","v":true}]
[null,"041","од чега: број клијената са активним одобреним мјерама",0,{"$nulls":6},8,{"$f":"+E20>=E21","v":true},{"$f":"+F20>=F21","v":true}]
[null,"050","Бруто износ кредита - активне мјере",{"$f":"SUM(D23:D25)","v":0},{"$f":"SUM(E23:E25)","v":0},{"$f":"SUM(F23:F25)","v":0},{"$nulls":4},9,{"$f":"+E32>=E33","v":true},{"$f":"+F32>=F33","v":true}]
[null,"060","од чега: кредити са 0 дана кашњења у отплати",{"$f":"+E23+F23+G23","v":0},{"$nulls":6},10,{"$f":"_xlfn.IFS(E16=0,E18=0,E16>0,E18>0)","v":true},{"$f":"_xlfn.IFS(F16=0,F18=0,F16>0,F18>0)","v":true}]
[null,"070","од чега: кредити са кашњењем  у отплати од 1 до 15 дана",0,{"$nulls":6},11,{"$f":"_xlfn.IFS(E20=0,E26=0,E20>0,E26>0)","v":true},{"$f":"_xlfn.IFS(F20=0,F26=0,F20>0,F26>0)","v":true}]
[null,"080","од чега: кредити са кашњењем  у отплати од 16 до 30 дана",0,{"$nulls":6},12,{"$f":"_xlfn.IFS(E32=0,E34=0,E32>0,E34>0)","v":true},{"$f":"_xlfn.IFS(F32=0,F34=0,F32>0,F34>0)","v":true}]
[null,"090","Бруто износ кредита - активне мјере",{"$f":"SUM(D27:D30)","v":0},{"$f":"SUM(E27:E30)","v":0},{"$f":"SUM(F27:F30)","v":0},{"$nulls":4},13,{"$f":"IFERROR(IF(FIND(\",\",E16)>0,\"без децимала\",TRUE),TRUE)","v":true},true]
[null,"100","од чега: мораторијум",{"$f":"+E27+F27+G27","v":0},{"$nulls":6},14,true,true]
[null,"110","од чега: грејс период",0,{"$nulls":6},15,true,true]
[null,"120","од чега: продужење рока отплате/доспијећа",0,{"$nulls":6},16,{"$f":"IFERROR(IF(FIND(\",\",E20)>0,\"без децимала\",TRUE),TRUE)","v":true},{"$f":"IFERROR(IF(FIND(\",\",F20)>0,\"без децимала\",TRUE),TRUE)","v":true}]
[null,"130","од чега: остало",0,{"$nulls":6},17,{"$f":"IFERROR(IF(FIND(\",\",E21)>0,\"без децимала\",TRUE),TRUE)","v":true},{"$f":"IFERROR(IF(FIND(\",\",F21)>0,\"без децимала\",TRUE),TRUE)","v":true}]
[null,"140","Одобрене истекле мјере",{"$nulls":7},18,{"$f":"IFERROR(IF(FIND(\",\",E23)>0,\"без децимала\",TRUE),TRUE)","v":true},{"$f":"IFERROR(IF(FIND(\",\",F23)>0,\"без децимала\",TRUE),TRUE)","v":true}]
[null,"150","Број кредитних партија",{"$f":"+E32+F32+G32","v":0},{"$nulls":6},19,{"$f":"IFERROR(IF(FIND(\",\",E24)>0,\"без децимала\",TRUE),TRUE)","v":true},{"$f":"IFERROR(IF(FIND(\",\",F24)>0,\"без децимала\",TRUE),TRUE)","v":true}]
[null,"151","од чега: број клијената са истеклим одобреним мјерама",0,{"$nulls":6},20,{"$f":"IFERROR(IF(FIND(\",\",E25)>0,\"без децимала\",TRUE),TRUE)","v":true},true]
[null,"160","Бруто износ кредита - истекле мјере",{"$f":"SUM(D35:D37)","v":0},{"$f":"SUM(E35:E37)","v":0},{"$f":"SUM(F35:F37)","v":0},{"$nulls":4},21,{"$f":"IFERROR(IF(FIND(\",\",E27)>0,\"без децимала\",TRUE),TRUE)","v":true},{"$f":"IFERROR(IF(FIND(\",\",F27)>0,\"без децимала\",TRUE),TRUE)","v":true}]
[null,"170","од чега: кредити са 0 дана кашњења у отплати",{"$f":"+E35+F35+G35","v":0},{"$nulls":6},22,{"$f":"IFERROR(IF(FIND(\",\",E28)>0,\"без децимала\",TRUE),TRUE)","v":true},true]
[null,"180","од чега:  кредити са кашњењем  у отплати од 1 до 15 дана",0,{"$nulls":6},23,{"$f":"IFERROR(IF(FIND(\",\",E29)>0,\"без децимала\",TRUE),TRUE)","v":true},true]
[null,"190","од чега: кредити са кашњењем  у отплати од 16 до 30 дана",0,{"$nulls":6},24,{"$f":"IFERROR(IF(FIND(\",\",E30)>0,\"без децимала\",TRUE),TRUE)","v":true},{"$f":"IFERROR(IF(FIND(\",\",F30)>0,\"без децимала\",TRUE),TRUE)","v":true}]
[{"$nulls":10},25,{"$f":"IFERROR(IF(FIND(\",\",E32)>0,\"без децимала\",TRUE),TRUE)","v":true},{"$f":"IFERROR(IF(FIND(\",\",F32)>0,\"без децимала\",TRUE),TRUE)","v":true}]
[{"$nulls":10},26,{"$f":"IFERROR(IF(FIND(\",\",E33)>0,\"без децимала\",TRUE),TRUE)","v":true},{"$f":"IFERROR(IF(FIND(\",\",F33)>0,\"без децимала\",TRUE),TRUE)","v":true}]
[null,"Напоменe: ",{"$nulls":8},27,{"$f":"IFERROR(IF(FIND(\",\",E35)>0,\"без децимала\",TRUE),TRUE)","v":true},true]
[null,"Износи у табели се уносе у 000 КМ и без децималних мјеста.",{"$nulls":8},28,true,true]
[null,"Извјештај се попуњава на кумулативној основи.",{"$nulls":8},29,true,true]
[null,"Поља означена сивом бојом се не попуњавају."]
[null,"* Уносе се подаци само за физичка лица, без предузетника."]
[null,"** У складу са чланом 4. Одлуке о привременим мјерама микрокредитним организацијама за одобравање олакшица физичким лицима за измирење кредитних обавеза. Структуру осталих кредита чине кредити исказани у обрасцу \"МКО-К\" (тачка 2ђ)."]

{"sheet":"p","index":1,"n_rows":21,"n_cols":6,"rows_kept":21,"hidden":true}
["sifra","datum","oznaka","c010","c020","c030"]
[null,{"$f":"unos!F11","v":"00:00:00"},"010",{"$f":"unos!D16","v":0},{"$f":"unos!E16","v":0},{"$f":"unos!F16","v":0}]
[{"$f":"$A$2","v":0},{"$f":"$B$2","v":"00:00:00"},"011",{"$f":"unos!D17","v":0},{"$f":"unos!E17","v":0},{"$f":"unos!F17","v":0}]
[{"$f":"$A$2","v":0},{"$f":"$B$2","v":"00:00:00"},"020",{"$f":"unos!D18","v":0},{"$f":"unos!E18","v":0},{"$f":"unos!F18","v":0}]
[{"$f":"$A$2","v":0},"00:00:00","040",{"$f":"unos!D20","v":0},{"$f":"unos!E20","v":0},{"$f":"unos!F20","v":0}]
[0,"00:00:00","041",{"$f":"unos!D21","v":0},{"$f":"unos!E21","v":0},{"$f":"unos!F21","v":0}]
[0,"00:00:00","050",{"$f":"unos!D22","v":0},{"$f":"unos!E22","v":0},{"$f":"unos!F22","v":0}]
[0,"00:00:00","060",{"$f":"unos!D23","v":0},{"$f":"unos!E23","v":0},{"$f":"unos!F23","v":0}]
[0,"00:00:00","070",{"$f":"unos!D24","v":0},{"$f":"unos!E24","v":0},{"$f":"unos!F24","v":0}]
[0,"00:00:00","080",{"$f":"unos!D25","v":0},{"$f":"unos!E25","v":0},{"$f":"unos!F25","v":0}]
[0,"00:00:00","090",{"$f":"unos!D26","v":0},{"$f":"unos!E26","v":0},{"$f":"unos!F26","v":0}]
[0,"00:00:00","100",{"$f":"unos!D27","v":0},{"$f":"unos!E27","v":0},{"$f":"unos!F27","v":0}]
[0,"00:00:00","110",{"$f":"unos!D28","v":0},{"$f":"unos!E28","v":0},{"$f":"unos!F28","v":0}]
[0,"00:00:00","120",{"$f":"unos!D29","v":0},{"$f":"unos!E29","v":0},{"$f":"unos!F29","v":0}]
[0,"00:00:00","130",{"$f":"unos!D30","v":0},{"$f":"unos!E30","v":0},{"$f":"unos!F30","v":0}]
[0,"00:00:00","150",{"$f":"unos!D32","v":0},{"$f":"unos!E32","v":0},{"$f":"unos!F32","v":0}]
[0,"00:00:00","151",{"$f":"unos!D33","v":0},{"$f":"unos!E33","v":0},{"$f":"unos!F33","v":0}]
[0,"00:00:00","160",{"$f":"unos!D34","v":0},{"$f":"unos!E34","v":0},{"$f":"unos!F34","v":0}]
[0,"00:00:00","170",{"$f":"unos!D35","v":0},{"$f":"unos!E35","v":0},{"$f":"unos!F35","v":0}]
[0,"00:00:00","180",{"$f":"unos!D36","v":0},{"$f":"unos!E36","v":0},{"$f":"unos!F36","v":0}]
[0,"00:00:00","190",{"$f":"unos!D37","v":0},{"$f":"unos!E37","v":0},{"$f":"unos!F37","v":0}]